BEGIN:VCALENDAR
VERSION:2.0
PRODID:-//Dukes Track Club - ECPv6.15.14//NONSGML v1.0//EN
CALSCALE:GREGORIAN
METHOD:PUBLISH
X-WR-CALNAME:Dukes Track Club
X-ORIGINAL-URL:https://www.dukestrackclub.com
X-WR-CALDESC:Events for Dukes Track Club
REFRESH-INTERVAL;VALUE=DURATION:PT1H
X-Robots-Tag:noindex
X-PUBLISHED-TTL:PT1H
BEGIN:VTIMEZONE
TZID:America/Denver
BEGIN:DAYLIGHT
TZOFFSETFROM:-0700
TZOFFSETTO:-0600
TZNAME:MDT
DTSTART:20250309T090000
END:DAYLIGHT
BEGIN:STANDARD
TZOFFSETFROM:-0600
TZOFFSETTO:-0700
TZNAME:MST
DTSTART:20251102T080000
END:STANDARD
BEGIN:DAYLIGHT
TZOFFSETFROM:-0700
TZOFFSETTO:-0600
TZNAME:MDT
DTSTART:20260308T090000
END:DAYLIGHT
BEGIN:STANDARD
TZOFFSETFROM:-0600
TZOFFSETTO:-0700
TZNAME:MST
DTSTART:20261101T080000
END:STANDARD
BEGIN:DAYLIGHT
TZOFFSETFROM:-0700
TZOFFSETTO:-0600
TZNAME:MDT
DTSTART:20270314T090000
END:DAYLIGHT
BEGIN:STANDARD
TZOFFSETFROM:-0600
TZOFFSETTO:-0700
TZNAME:MST
DTSTART:20271107T080000
END:STANDARD
END:VTIMEZONE
BEGIN:VEVENT
DTSTART;TZID=America/Denver:20260426T073000
DTEND;TZID=America/Denver:20260426T090000
DTSTAMP:20260421T064535
CREATED:20250617T231137Z
LAST-MODIFIED:20251009T015350Z
UID:10001531-1777188600-1777194000@www.dukestrackclub.com
SUMMARY:Nature Center Long Run
DESCRIPTION:Join us for our longest run of the week along the Bosque trails.
URL:https://www.dukestrackclub.com/event/nature-center-long-run/2026-04-26/
LOCATION:Nature Center\, 3600 Trellis Dr NW\, Albuquerque\, New Mexico\, 87107
ATTACH;FMTTYPE=image/png:https://www.dukestrackclub.com/wp-content/uploads/2025/06/Nature-Center.png
END:VEVENT
BEGIN:VEVENT
DTSTART;TZID=America/Denver:20260524T073000
DTEND;TZID=America/Denver:20260524T090000
DTSTAMP:20260421T064535
CREATED:20250617T231137Z
LAST-MODIFIED:20251009T015350Z
UID:10001532-1779607800-1779613200@www.dukestrackclub.com
SUMMARY:Nature Center Long Run
DESCRIPTION:Join us for our longest run of the week along the Bosque trails.
URL:https://www.dukestrackclub.com/event/nature-center-long-run/2026-05-24/
LOCATION:Nature Center\, 3600 Trellis Dr NW\, Albuquerque\, New Mexico\, 87107
ATTACH;FMTTYPE=image/png:https://www.dukestrackclub.com/wp-content/uploads/2025/06/Nature-Center.png
END:VEVENT
BEGIN:VEVENT
DTSTART;TZID=America/Denver:20260628T073000
DTEND;TZID=America/Denver:20260628T090000
DTSTAMP:20260421T064535
CREATED:20250617T231137Z
LAST-MODIFIED:20251009T015350Z
UID:10001533-1782631800-1782637200@www.dukestrackclub.com
SUMMARY:Nature Center Long Run
DESCRIPTION:Join us for our longest run of the week along the Bosque trails.
URL:https://www.dukestrackclub.com/event/nature-center-long-run/2026-06-28/
LOCATION:Nature Center\, 3600 Trellis Dr NW\, Albuquerque\, New Mexico\, 87107
ATTACH;FMTTYPE=image/png:https://www.dukestrackclub.com/wp-content/uploads/2025/06/Nature-Center.png
END:VEVENT
BEGIN:VEVENT
DTSTART;TZID=America/Denver:20260726T073000
DTEND;TZID=America/Denver:20260726T090000
DTSTAMP:20260421T064535
CREATED:20250617T231137Z
LAST-MODIFIED:20251009T015350Z
UID:10001534-1785051000-1785056400@www.dukestrackclub.com
SUMMARY:Nature Center Long Run
DESCRIPTION:Join us for our longest run of the week along the Bosque trails.
URL:https://www.dukestrackclub.com/event/nature-center-long-run/2026-07-26/
LOCATION:Nature Center\, 3600 Trellis Dr NW\, Albuquerque\, New Mexico\, 87107
ATTACH;FMTTYPE=image/png:https://www.dukestrackclub.com/wp-content/uploads/2025/06/Nature-Center.png
END:VEVENT
BEGIN:VEVENT
DTSTART;TZID=America/Denver:20260823T073000
DTEND;TZID=America/Denver:20260823T090000
DTSTAMP:20260421T064535
CREATED:20250617T231137Z
LAST-MODIFIED:20251009T015350Z
UID:10001535-1787470200-1787475600@www.dukestrackclub.com
SUMMARY:Nature Center Long Run
DESCRIPTION:Join us for our longest run of the week along the Bosque trails.
URL:https://www.dukestrackclub.com/event/nature-center-long-run/2026-08-23/
LOCATION:Nature Center\, 3600 Trellis Dr NW\, Albuquerque\, New Mexico\, 87107
ATTACH;FMTTYPE=image/png:https://www.dukestrackclub.com/wp-content/uploads/2025/06/Nature-Center.png
END:VEVENT
BEGIN:VEVENT
DTSTART;TZID=America/Denver:20260927T073000
DTEND;TZID=America/Denver:20260927T090000
DTSTAMP:20260421T064535
CREATED:20250617T231137Z
LAST-MODIFIED:20251009T015350Z
UID:10001536-1790494200-1790499600@www.dukestrackclub.com
SUMMARY:Nature Center Long Run
DESCRIPTION:Join us for our longest run of the week along the Bosque trails.
URL:https://www.dukestrackclub.com/event/nature-center-long-run/2026-09-27/
LOCATION:Nature Center\, 3600 Trellis Dr NW\, Albuquerque\, New Mexico\, 87107
ATTACH;FMTTYPE=image/png:https://www.dukestrackclub.com/wp-content/uploads/2025/06/Nature-Center.png
END:VEVENT
BEGIN:VEVENT
DTSTART;TZID=America/Denver:20261025T073000
DTEND;TZID=America/Denver:20261025T090000
DTSTAMP:20260421T064535
CREATED:20250617T231137Z
LAST-MODIFIED:20251009T015350Z
UID:10001537-1792913400-1792918800@www.dukestrackclub.com
SUMMARY:Nature Center Long Run
DESCRIPTION:Join us for our longest run of the week along the Bosque trails.
URL:https://www.dukestrackclub.com/event/nature-center-long-run/2026-10-25/
LOCATION:Nature Center\, 3600 Trellis Dr NW\, Albuquerque\, New Mexico\, 87107
ATTACH;FMTTYPE=image/png:https://www.dukestrackclub.com/wp-content/uploads/2025/06/Nature-Center.png
END:VEVENT
BEGIN:VEVENT
DTSTART;TZID=America/Denver:20261122T073000
DTEND;TZID=America/Denver:20261122T090000
DTSTAMP:20260421T064535
CREATED:20250617T231137Z
LAST-MODIFIED:20251009T015350Z
UID:10001538-1795332600-1795338000@www.dukestrackclub.com
SUMMARY:Nature Center Long Run
DESCRIPTION:Join us for our longest run of the week along the Bosque trails.
URL:https://www.dukestrackclub.com/event/nature-center-long-run/2026-11-22/
LOCATION:Nature Center\, 3600 Trellis Dr NW\, Albuquerque\, New Mexico\, 87107
ATTACH;FMTTYPE=image/png:https://www.dukestrackclub.com/wp-content/uploads/2025/06/Nature-Center.png
END:VEVENT
BEGIN:VEVENT
DTSTART;TZID=America/Denver:20261227T073000
DTEND;TZID=America/Denver:20261227T090000
DTSTAMP:20260421T064535
CREATED:20250617T231137Z
LAST-MODIFIED:20251009T015350Z
UID:10001539-1798356600-1798362000@www.dukestrackclub.com
SUMMARY:Nature Center Long Run
DESCRIPTION:Join us for our longest run of the week along the Bosque trails.
URL:https://www.dukestrackclub.com/event/nature-center-long-run/2026-12-27/
LOCATION:Nature Center\, 3600 Trellis Dr NW\, Albuquerque\, New Mexico\, 87107
ATTACH;FMTTYPE=image/png:https://www.dukestrackclub.com/wp-content/uploads/2025/06/Nature-Center.png
END:VEVENT
END:VCALENDAR